BEGIN:VCALENDAR
VERSION:2.0
PRODID:-//hhshr.com//NONSGML kigkonsult.se iCalcreator 2.30.10//
CALSCALE:GREGORIAN
METHOD:PUBLISH
UID:b0321411-318b-4ade-ab69-0d72880d8f4a
X-WR-CALDESC:
X-WR-RELCALID:da5ae3755315c512e73dba072b372c8e
X-WR-TIMEZONE:America/Chicago
BEGIN:VTIMEZONE
TZID:America/Chicago
BEGIN:STANDARD
TZNAME:CST
DTSTART:20201101T020000
TZOFFSETFROM:-0500
TZOFFSETTO:-0600
RDATE:20211107T020000
END:STANDARD
BEGIN:DAYLIGHT
TZNAME:CDT
DTSTART:20200308T020000
TZOFFSETFROM:-0600
TZOFFSETTO:-0500
RDATE:20210314T020000
RDATE:20220313T020000
END:DAYLIGHT
END:VTIMEZONE
BEGIN:VEVENT
UID:c73327ca-ae7c-496a-bfdd-9ec13709174e
DTSTAMP:20260424T151743Z
DESCRIPTION:
DTSTART;TZID=America/Chicago:20201211T000000
DTEND;TZID=America/Chicago:20201211T235900
LOCATION:
SUMMARY:Holiday Ornaments
END:VEVENT
END:VCALENDAR
